BEGIN:VCALENDAR
VERSION:2.0
PRODID:-//Jumpstart Wilmington - ECPv6.15.20//NONSGML v1.0//EN
CALSCALE:GREGORIAN
METHOD:PUBLISH
X-ORIGINAL-URL:https://jumpstartwilmington.org
X-WR-CALDESC:Events for Jumpstart Wilmington
REFRESH-INTERVAL;VALUE=DURATION:PT1H
X-Robots-Tag:noindex
X-PUBLISHED-TTL:PT1H
BEGIN:VTIMEZONE
TZID:America/New_York
BEGIN:DAYLIGHT
TZOFFSETFROM:-0500
TZOFFSETTO:-0400
TZNAME:EDT
DTSTART:20210314T070000
END:DAYLIGHT
BEGIN:STANDARD
TZOFFSETFROM:-0400
TZOFFSETTO:-0500
TZNAME:EST
DTSTART:20211107T060000
END:STANDARD
BEGIN:DAYLIGHT
TZOFFSETFROM:-0500
TZOFFSETTO:-0400
TZNAME:EDT
DTSTART:20220313T070000
END:DAYLIGHT
BEGIN:STANDARD
TZOFFSETFROM:-0400
TZOFFSETTO:-0500
TZNAME:EST
DTSTART:20221106T060000
END:STANDARD
BEGIN:DAYLIGHT
TZOFFSETFROM:-0500
TZOFFSETTO:-0400
TZNAME:EDT
DTSTART:20230312T070000
END:DAYLIGHT
BEGIN:STANDARD
TZOFFSETFROM:-0400
TZOFFSETTO:-0500
TZNAME:EST
DTSTART:20231105T060000
END:STANDARD
END:VTIMEZONE
BEGIN:VEVENT
DTSTART;TZID=America/New_York:20221024T173000
DTEND;TZID=America/New_York:20221024T190000
DTSTAMP:20260422T115610
CREATED:20221012T153706Z
LAST-MODIFIED:20221012T153706Z
UID:1159-1666632600-1666638000@jumpstartwilmington.org
SUMMARY:Kickstart Session: Construction Scheduling and Project Sequencing
DESCRIPTION:Please join us for our next Kickstart Session! \n  \nConstruction Scheduling and Project Sequencing \nKickstart Sessions complement the Jumpstart Wilmington program and offer information around specific topics related to the development process.    \n Construction scheduling sequences activities and deliverables that need to be completed during the life of the project and is critical to the overall construction timeline and project management. Please join us as our speaker\, Martha M. White\, explains the importance of construction scheduling and project sequencing\, how a construction schedule fits into a master schedule\, and software that helps create and manage your construction schedule.    \n Please register by October 20th to ensure receipt of the Zoom link needed to attend this session. We look forward to seeing you on October 24th!  \n REGISTER HERE  \nABOUT THE SPEAKER   \nMartha White has spent the last 25 years making EDiS interiors projects look easy. From complex occupied sites\, to phased construction plans\, to fit-outs and refreshes of large spaces and small\, Martha has mastered it all. She is a client advocate that will represent their interests as her own\, and she protects the budget and schedule with a tenacity rarely found. Whether working with owners\, owner’s reps\, designers\, or trade contractors\, Martha’s meticulous attention to every detail has saved hundreds of hours and dollars both before and during construction. Her ability to see the full system of a job and make decisions based on the impacts to all trades\, both the obvious and the not so obvious\, is one of many things that sets her apart. Clients ask for her again and again. Work with her once to see why.\n\nLink to Full Bio\n 
URL:https://jumpstartwilmington.org/event/kickstart-session-construction-scheduling-and-project-sequencing/
LOCATION:Virtual
END:VEVENT
END:VCALENDAR