BEGIN:VCALENDAR
VERSION:2.0
PRODID:-//Jumpstart Wilmington - ECPv6.15.20//NONSGML v1.0//EN
CALSCALE:GREGORIAN
METHOD:PUBLISH
X-WR-CALNAME:Jumpstart Wilmington
X-ORIGINAL-URL:https://jumpstartwilmington.org
X-WR-CALDESC:Events for Jumpstart Wilmington
REFRESH-INTERVAL;VALUE=DURATION:PT1H
X-Robots-Tag:noindex
X-PUBLISHED-TTL:PT1H
BEGIN:VTIMEZONE
TZID:America/New_York
BEGIN:DAYLIGHT
TZOFFSETFROM:-0500
TZOFFSETTO:-0400
TZNAME:EDT
DTSTART:20200308T070000
END:DAYLIGHT
BEGIN:STANDARD
TZOFFSETFROM:-0400
TZOFFSETTO:-0500
TZNAME:EST
DTSTART:20201101T060000
END:STANDARD
BEGIN:DAYLIGHT
TZOFFSETFROM:-0500
TZOFFSETTO:-0400
TZNAME:EDT
DTSTART:20210314T070000
END:DAYLIGHT
BEGIN:STANDARD
TZOFFSETFROM:-0400
TZOFFSETTO:-0500
TZNAME:EST
DTSTART:20211107T060000
END:STANDARD
BEGIN:DAYLIGHT
TZOFFSETFROM:-0500
TZOFFSETTO:-0400
TZNAME:EDT
DTSTART:20220313T070000
END:DAYLIGHT
BEGIN:STANDARD
TZOFFSETFROM:-0400
TZOFFSETTO:-0500
TZNAME:EST
DTSTART:20221106T060000
END:STANDARD
END:VTIMEZONE
BEGIN:VEVENT
DTSTART;TZID=America/New_York:20211101T173000
DTEND;TZID=America/New_York:20211101T193000
DTSTAMP:20260422T190317
CREATED:20211101T124533Z
LAST-MODIFIED:20211101T124650Z
UID:780-1635787800-1635795000@jumpstartwilmington.org
SUMMARY:JUMPSTART WILMINGTON COHORT 5 – ORIENTATION
DESCRIPTION:JumpStart Wilmington’s 5th Cohort orientation session will be held on Thursday\, November 4. \nParticipation in Jumpstart Wilmington Cohort 5 training sessions is exclusive to those who applied and were accepted to this specific cohort. For more information on how to apply for future cohorts\, click here.
URL:https://jumpstartwilmington.org/event/jumpstart-wilmington-cohort-5-orientation/
END:VEVENT
BEGIN:VEVENT
DTSTART;TZID=America/New_York:20210826T140000
DTEND;TZID=America/New_York:20210826T170000
DTSTAMP:20260422T190317
CREATED:20210804T142554Z
LAST-MODIFIED:20210804T142554Z
UID:758-1629986400-1629997200@jumpstartwilmington.org
SUMMARY:JumpStart Wilmington Cohort 4 - Session 4
DESCRIPTION:JumpStart Wilmington’s 4th Cohort Training Session 4 takes place on Thursday\, Aug. 26. \nAgenda: \n\nJumpstep 7: Understanding City Departments & Other Resources\nJumpstep 8: Customize Construction\nJumpstep 9: Lease/Manage/Sell Property\n\nParticipation in Jumpstart Wilmington Cohort 4 training sessions is exclusive to those who applied and were accepted to this specific cohort. For more information on how to apply for future cohorts\, click here.
URL:https://jumpstartwilmington.org/event/jumpstart-wilmington-cohort-4-session-4/
END:VEVENT
BEGIN:VEVENT
DTSTART;TZID=America/New_York:20210819T140000
DTEND;TZID=America/New_York:20210819T170000
DTSTAMP:20260422T190317
CREATED:20210804T142418Z
LAST-MODIFIED:20210804T142649Z
UID:757-1629381600-1629392400@jumpstartwilmington.org
SUMMARY:JumpStart Wilmington Cohort 4 - Session 3
DESCRIPTION:JumpStart Wilmington’s 4th Cohort Training Session 3 takes place on Thursday\, Aug. 19. \nAgenda: \n\nJumpstep 6: Develop Design & Procure Permits\nJumpstep 7: Understanding City Department and Other Resources\n\nParticipation in Jumpstart Wilmington Cohort 4 training sessions is exclusive to those who applied and were accepted to this specific cohort. For more information on how to apply for future cohorts\, click here.
URL:https://jumpstartwilmington.org/event/jumpstart-wilmington-cohort-4-session-3/
END:VEVENT
BEGIN:VEVENT
DTSTART;TZID=America/New_York:20210816T173000
DTEND;TZID=America/New_York:20210816T190000
DTSTAMP:20260422T190317
CREATED:20210802T231419Z
LAST-MODIFIED:20210803T144411Z
UID:746-1629135000-1629140400@jumpstartwilmington.org
SUMMARY:Kickstart Session: Project Sequencing for Developers
DESCRIPTION:August’s Kickstart Session will feature Chris Laurent\, President of Cinnaire Solutions\, explaining the importance of project sequencing and the developer’s decision-making process. \nProject sequencing helps to determine when to select a project for development based on feasibility of the deal. This process also allows a developer to determine the priority in which a project should be completed with contemplating or managing multiple projects. Join us as we hear Chris Laurent\, President of Cinnaire Solutions\, explain the importance of project sequencing and the developer’s decision-making process. \nThis session will provide tips on: \n\nUsing the right financial tools to evaluate your project.\nHow to know if you have the proper scope of work?\nHow do you select the tight architect and contractor for your project?\nWhat to delegate to your professionals vs. what you can do yourself?\n\nRegister Here
URL:https://jumpstartwilmington.org/event/example-event-title-here/
LOCATION:Virtual
END:VEVENT
BEGIN:VEVENT
DTSTART;TZID=America/New_York:20210812T140000
DTEND;TZID=America/New_York:20210812T170000
DTSTAMP:20260422T190317
CREATED:20210804T142112Z
LAST-MODIFIED:20210804T142112Z
UID:756-1628776800-1628787600@jumpstartwilmington.org
SUMMARY:JumpStart Wilmington Cohort 4 - Session 2
DESCRIPTION:JumpStart Wilmington’s 4th Cohort Training Session 2 takes place on Thursday\, Aug. 12. \nAgenda: \n\nJumpStep 3: Source a Property\nJumpStep 4: Do Your Due Diligence\nJumpStep 5: Find Your Financing\n\nParticipation in Jumpstart Wilmington Cohort 4 training sessions is exclusive to those who applied and were accepted to this specific cohort. For more information on how to apply for future cohorts\, click here.
URL:https://jumpstartwilmington.org/event/jumpstart-wilmington-cohort-4-session-2/
END:VEVENT
BEGIN:VEVENT
DTSTART;TZID=America/New_York:20210805T140000
DTEND;TZID=America/New_York:20210805T170000
DTSTAMP:20260422T190317
CREATED:20210803T201958Z
LAST-MODIFIED:20210804T140958Z
UID:752-1628172000-1628182800@jumpstartwilmington.org
SUMMARY:JumpStart Wilmington Cohort 4 - Session 1
DESCRIPTION:JumpStart Wilmington’s 4th Cohort training session begins Thursday\, Aug. 5. \nAgenda: \n\nJumpStep 1: Minding Your Business\nJumpStep 2: Development Strategy & Team\n\nParticipation in Jumpstart Wilmington Cohort 4 training sessions is exclusive to those who applied and were accepted to this specific cohort. For more information on how to apply for future cohorts\, click here.
URL:https://jumpstartwilmington.org/event/jumpstart-wilmington-cohort-4-orientation-session-1/
END:VEVENT
BEGIN:VEVENT
DTSTART;TZID=America/New_York:20210802T150000
DTEND;TZID=America/New_York:20210802T170000
DTSTAMP:20260422T190317
CREATED:20210804T141532Z
LAST-MODIFIED:20210804T141532Z
UID:754-1627916400-1627923600@jumpstartwilmington.org
SUMMARY:JumpStart Wilmington Cohort 4 - Orientation
DESCRIPTION:JumpStart Wilmington’s 4th Cohort orientation session will be held on Monday\, August 2. \nParticipation in Jumpstart Wilmington Cohort 4 training sessions is exclusive to those who applied and were accepted to this specific cohort. For more information on how to apply for future cohorts\, click here.
URL:https://jumpstartwilmington.org/event/jumpstart-wilmington-cohort-4-orientation/
END:VEVENT
END:VCALENDAR