BEGIN:VCALENDAR
VERSION:2.0
PRODID:-//Jumpstart Wilmington - ECPv6.15.20//NONSGML v1.0//EN
CALSCALE:GREGORIAN
METHOD:PUBLISH
X-WR-CALNAME:Jumpstart Wilmington
X-ORIGINAL-URL:https://jumpstartwilmington.org
X-WR-CALDESC:Events for Jumpstart Wilmington
REFRESH-INTERVAL;VALUE=DURATION:PT1H
X-Robots-Tag:noindex
X-PUBLISHED-TTL:PT1H
BEGIN:VTIMEZONE
TZID:America/New_York
BEGIN:DAYLIGHT
TZOFFSETFROM:-0500
TZOFFSETTO:-0400
TZNAME:EDT
DTSTART:20200308T070000
END:DAYLIGHT
BEGIN:STANDARD
TZOFFSETFROM:-0400
TZOFFSETTO:-0500
TZNAME:EST
DTSTART:20201101T060000
END:STANDARD
BEGIN:DAYLIGHT
TZOFFSETFROM:-0500
TZOFFSETTO:-0400
TZNAME:EDT
DTSTART:20210314T070000
END:DAYLIGHT
BEGIN:STANDARD
TZOFFSETFROM:-0400
TZOFFSETTO:-0500
TZNAME:EST
DTSTART:20211107T060000
END:STANDARD
BEGIN:DAYLIGHT
TZOFFSETFROM:-0500
TZOFFSETTO:-0400
TZNAME:EDT
DTSTART:20220313T070000
END:DAYLIGHT
BEGIN:STANDARD
TZOFFSETFROM:-0400
TZOFFSETTO:-0500
TZNAME:EST
DTSTART:20221106T060000
END:STANDARD
BEGIN:DAYLIGHT
TZOFFSETFROM:-0500
TZOFFSETTO:-0400
TZNAME:EDT
DTSTART:20230312T070000
END:DAYLIGHT
BEGIN:STANDARD
TZOFFSETFROM:-0400
TZOFFSETTO:-0500
TZNAME:EST
DTSTART:20231105T060000
END:STANDARD
END:VTIMEZONE
BEGIN:VEVENT
DTSTART;TZID=America/New_York:20220915T173000
DTEND;TZID=America/New_York:20220915T193000
DTSTAMP:20260422T185943
CREATED:20211213T143752Z
LAST-MODIFIED:20211213T143752Z
UID:811-1663263000-1663270200@jumpstartwilmington.org
SUMMARY:Developers' Network Event
DESCRIPTION:Jumpstart Wilmington will host a Developers’ Network Event on September 15\, 2022. Details will be provided as soon as they are available.
URL:https://jumpstartwilmington.org/event/developers-network-event-2/
END:VEVENT
BEGIN:VEVENT
DTSTART;TZID=America/New_York:20220822T173000
DTEND;TZID=America/New_York:20220822T183000
DTSTAMP:20260422T185943
CREATED:20220808T163323Z
LAST-MODIFIED:20220808T195319Z
UID:932-1661189400-1661193000@jumpstartwilmington.org
SUMMARY:Kickstart Session: Tangled Titles
DESCRIPTION:Please join us for our next Kickstart Session!\n\nA tangled title is a property title that does not that accurately reflect the present homeowner’s claim to the home. This can result in a major barrier to acquisition that is especially difficult for a new developer to navigate.\n\nJaclyn Quinn\, Esq. is an experienced attorney in navigating tangled titles. Come learn about how tangled titled issues can be resolved and ease the path to sourcing your property.  During this Kickstart Session\, we will explore:\n\n\n\n\n\n\nWhat is a tangled title and how does it occur?\nAs a developer\, what should you do if a property has a tangled title?\nHow can you work with a homeowner to resolve a tangled title issue?\nWhat resources are available to address tangled titles?\n\n\n\n\n\nKickstart Sessions complement the Jumpstart Wilmington program and offer information around specific topics related to the development process.\n\n\n\n\nPlease register by August 18th to ensure receipt of the Zoom link needed to attend this session. We look forward to seeing you on August 22nd!\n\n\n\nREGISTER HERE
URL:https://jumpstartwilmington.org/event/kickstart-session-tangled-titles/
LOCATION:Virtual
END:VEVENT
BEGIN:VEVENT
DTSTART;TZID=America/New_York:20220729T080000
DTEND;TZID=America/New_York:20220729T170000
DTSTAMP:20260422T185943
CREATED:20220627T200334Z
LAST-MODIFIED:20220718T154209Z
UID:905-1659081600-1659114000@jumpstartwilmington.org
SUMMARY:2023 Application Round Closes July 29
DESCRIPTION:Jumpstart Wilmington was launched to encourage Wilmington residents to become developers of their own neighborhoods through quality\, community-focused real estate development training and financing options. \nWe will be accepting our next round of applications July 11 through July 29 for our 2023 cohorts. \nVisit the Apply webpage for more details.
URL:https://jumpstartwilmington.org/event/2023-application-round-closes-july-29/
END:VEVENT
BEGIN:VEVENT
DTSTART;TZID=America/New_York:20220711T080000
DTEND;TZID=America/New_York:20220711T170000
DTSTAMP:20260422T185943
CREATED:20220627T200222Z
LAST-MODIFIED:20220718T154130Z
UID:904-1657526400-1657558800@jumpstartwilmington.org
SUMMARY:2023 Application Round Opens July 11
DESCRIPTION:Jumpstart Wilmington was launched to encourage Wilmington residents to become developers of their own neighborhoods through quality\, community-focused real estate development training and financing options. \nWe will be accepting our next round of applications July 11 through July 29 for our 2023 cohorts. \nVisit the Apply webpage for more details. \n 
URL:https://jumpstartwilmington.org/event/2023-application-round-opens-july-11/
END:VEVENT
BEGIN:VEVENT
DTSTART;TZID=America/New_York:20220418T173000
DTEND;TZID=America/New_York:20220418T190000
DTSTAMP:20260422T185943
CREATED:20220329T143204Z
LAST-MODIFIED:20220330T174007Z
UID:869-1650303000-1650308400@jumpstartwilmington.org
SUMMARY:Kickstart Session : What You Need to Know About Section 8 Rental Housing
DESCRIPTION:Join us on April 18 as our speaker\, Andrew Davenport\, Vice President\, Development for the MICHAELS Organization\, explains “What You Need to Know About Section 8 Rental Housing: From a Landlord’s Perspective.” In this session\, Andrew will cover: \n\nHow Section 8 vouchers work\nIncome verification\nCompliance/Inspections\nRental payments/Subsidy payments\nHow is managing a rental unit different for a Section 8 tenant vs. non-Section 8 tenant\n\nClick here for more information.  \nPlease register by April 14 to ensure receipt of the Zoom link needed to attend this session. We look forward to seeing you on April 18. \nREGISTER HERE \nKickstart Sessions complement the Jumpstart Wilmington program and offer information around specific topics related to the development process.
URL:https://jumpstartwilmington.org/event/kickstart-session-april-18/
END:VEVENT
BEGIN:VEVENT
DTSTART;TZID=America/New_York:20220328T173000
DTEND;TZID=America/New_York:20220328T190000
DTSTAMP:20260422T185943
CREATED:20220314T171046Z
LAST-MODIFIED:20220315T141741Z
UID:851-1648488600-1648494000@jumpstartwilmington.org
SUMMARY:Kickstart Session: The Truth About Sheriff Sales & Wholesaling
DESCRIPTION:Join us on March 28 as our speaker\, Brian O’Neil\, an experienced Sheriff Sale Wholesaler shares his experience navigating the sheriff sales process and cautionary tales when considering this method of property sourcing. In this session\, Brian will cover: \n\nHow sheriff sales work\nChallenges navigating the sheriff sale process\nWhat you need to be aware of when considering sheriff sales for property sourcing\nLessons learned/cautionary tales\n\nPlease register by March 24th to ensure receipt of the Zoom link needed to attend this session. We look forward to seeing you on March 28. \nREGISTER HERE \nKickstart Sessions complement the Jumpstart Wilmington program and offer information around specific topics related to the development process.
URL:https://jumpstartwilmington.org/event/kickstart-session-the-truth-about-sheriff-sales-wholesaling/
END:VEVENT
BEGIN:VEVENT
DTSTART;TZID=America/New_York:20220228T173000
DTEND;TZID=America/New_York:20220228T190000
DTSTAMP:20260422T185943
CREATED:20220210T165106Z
LAST-MODIFIED:20220222T225111Z
UID:839-1646069400-1646074800@jumpstartwilmington.org
SUMMARY:Kickstart Session: Unlocking the Delaware Historic Tax Credit Program
DESCRIPTION:Federal and state historic tax credits can be used as a source of capital for historic preservation development projects. When considering this tax credit program\, it is important to understand the eligibility criteria\, rehabilitation requirements of a historic property\, and how to complete the the tax credit application. Join us as Delaware’s State Historic Tax Credit Manager\, Kara Briggs\, explains the significant aspects of the program developers should be aware of if they are contemplating applying for these tax credits to capitalize a historic preservation project. \nPlease register by February 24th to ensure receipt of the Zoom link needed to attend this session. We look forward to seeing you on February 28th! \nREGISTER HERE \nKickstart Sessions complement the Jumpstart Wilmington program and offer information around specific topics related to the development process. 
URL:https://jumpstartwilmington.org/event/kickstart-session-unlocking-the-delaware-historic-tax-credit-program/
END:VEVENT
BEGIN:VEVENT
DTSTART;TZID=America/New_York:20220224T140000
DTEND;TZID=America/New_York:20220224T170000
DTSTAMP:20260422T185943
CREATED:20211213T150319Z
LAST-MODIFIED:20211213T150319Z
UID:817-1645711200-1645722000@jumpstartwilmington.org
SUMMARY:JumpStart Wilmington’s Cohort 6: Session 4
DESCRIPTION:JumpStart Wilmington’s 6th Cohort Session 4 will be held on Wednesday\, Feb. 24\, 2022. \nParticipation in Jumpstart Wilmington Cohort 6 training sessions is exclusive to those who applied and were accepted to this specific cohort. For more information on how to apply for future cohorts\, click here.
URL:https://jumpstartwilmington.org/event/jumpstart-wilmingtons-cohort-6-session-4/
END:VEVENT
BEGIN:VEVENT
DTSTART;TZID=America/New_York:20220217T140000
DTEND;TZID=America/New_York:20220217T170000
DTSTAMP:20260422T185943
CREATED:20211213T150026Z
LAST-MODIFIED:20211213T150026Z
UID:816-1645106400-1645117200@jumpstartwilmington.org
SUMMARY:JumpStart Wilmington’s Cohort 6: Session 3
DESCRIPTION:JumpStart Wilmington’s 6th Cohort Session 3 will be held on Wednesday\, Feb. 17\, 2022. \nParticipation in Jumpstart Wilmington Cohort 6 training sessions is exclusive to those who applied and were accepted to this specific cohort. For more information on how to apply for future cohorts\, click here.
URL:https://jumpstartwilmington.org/event/jumpstart-wilmingtons-cohort-6-session-3/
END:VEVENT
BEGIN:VEVENT
DTSTART;TZID=America/New_York:20220210T140000
DTEND;TZID=America/New_York:20220210T170000
DTSTAMP:20260422T185943
CREATED:20211213T144928Z
LAST-MODIFIED:20211213T145842Z
UID:815-1644501600-1644512400@jumpstartwilmington.org
SUMMARY:JumpStart Wilmington’s Cohort 6: Session 2
DESCRIPTION:JumpStart Wilmington’s 6th Cohort Session 2 will be held on Thursday\, February 10\, 2022. \nParticipation in Jumpstart Wilmington Cohort 6 training sessions is exclusive to those who applied and were accepted to this specific cohort. For more information on how to apply for future cohorts\, click here.
URL:https://jumpstartwilmington.org/event/jumpstart-wilmingtons-6th-cohort-session-2/
END:VEVENT
BEGIN:VEVENT
DTSTART;TZID=America/New_York:20220203T140000
DTEND;TZID=America/New_York:20220203T170000
DTSTAMP:20260422T185943
CREATED:20211213T144755Z
LAST-MODIFIED:20211213T145056Z
UID:814-1643896800-1643907600@jumpstartwilmington.org
SUMMARY:JumpStart Wilmington’s Cohort 6: Session 1
DESCRIPTION:JumpStart Wilmington’s 6th Cohort Session 1 will be held on Wednesday\, Feb. 3\, 2022. \nParticipation in Jumpstart Wilmington Cohort 6 training sessions is exclusive to those who applied and were accepted to this specific cohort. For more information on how to apply for future cohorts\, click here.
URL:https://jumpstartwilmington.org/event/jumpstart-wilmingtons-cohort-6-session-1/
END:VEVENT
BEGIN:VEVENT
DTSTART;TZID=America/New_York:20220131T150000
DTEND;TZID=America/New_York:20220131T170000
DTSTAMP:20260422T185943
CREATED:20211213T144533Z
LAST-MODIFIED:20211213T144552Z
UID:813-1643641200-1643648400@jumpstartwilmington.org
SUMMARY:Jumpstart Session Cohort 6 - Orientation
DESCRIPTION:JumpStart Wilmington’s 6th Cohort orientation session will be held on Monday\, January 31\, 2022. \nParticipation in Jumpstart Wilmington Cohort 6 training sessions is exclusive to those who applied and were accepted to this specific cohort. For more information on how to apply for future cohorts\, click here.
URL:https://jumpstartwilmington.org/event/jumpstart-session-cohort-6/
END:VEVENT
BEGIN:VEVENT
DTSTART;TZID=America/New_York:20220124T173000
DTEND;TZID=America/New_York:20220124T183000
DTSTAMP:20260422T185943
CREATED:20211119T201214Z
LAST-MODIFIED:20220110T165502Z
UID:808-1643045400-1643049000@jumpstartwilmington.org
SUMMARY:Kickstart Session: Understanding Historic Properties
DESCRIPTION:Register now for our next Kickstart Session on Monday\, January 24\, 2022 – Incentives for Developing Historic Properties in Wilmington. Debbie Martin\, Historic Preservation Planner for the City of Wilmington\, will facilitate the discussion. \nJoin us to learn about the various tax credit incentives available for developers who are interested in rehabilitating local historic or national register properties. Incentive programs that will be covered include: \n\nFederal Historic Preservation Tax Incentive\nDelaware Historic Preservation Tax Credits\nCity of Wilmington Property Tax Abatement Program for Historic Structures\nDelaware Preservation Fund\n\nTo better understand the content that will be presented\, please review the following documents prior to this session: \n\nCity of Wilmington Historic District\nHistoric Wilmington: A Guide to Districts and Buildings on the National Register of Historic Places\nIncentive Programs for National Register Properties\n\nPlease register by January 20th to ensure receipt of the Zoom link needed to attend this session. We look forward to seeing you on January 24th! \nREGISTER HERE\n  \nKickstart Sessions complement the Jumpstart Wilmington program and offer information around specific topics related to the development process. \nAbout the Speaker\nDebra Martin serves as Historic Preservation Planner for the City of Wilmington\, Department of Planning and Development. After a somewhat nomadic career in archaeology in the Middle Atlantic area\, she shifted to historic preservation to avoid working outside all winter long. \nAs a member of the Preservation Trades Network\, Debra has absorbed workshops in historic window repair\, painting\, masonry repointing\, flat plastering\, wood identification\, and slate and wood shingle roofing\, and has used that knowledge to advise constituents and to create practical guides for homeowners. She and her husband have lived in both a brand new “vinyl palace” townhouse\, and a ca. 1850 vernacular\, frame house in a National Register Historic District\, and can speak to the challenges and joys of both. They have first-hand knowledge of using the state historic preservation tax credits and the Delaware Preservation Fund to help with projects over the past 20 years.
URL:https://jumpstartwilmington.org/event/kickstart-session-understanding-historic-properties/
END:VEVENT
BEGIN:VEVENT
DTSTART;TZID=America/New_York:20211202T173000
DTEND;TZID=America/New_York:20211202T203000
DTSTAMP:20260422T185943
CREATED:20211101T125522Z
LAST-MODIFIED:20211101T125522Z
UID:786-1638466200-1638477000@jumpstartwilmington.org
SUMMARY:JUMPSTART WILMINGTON COHORT 5 – SESSION 4
DESCRIPTION:JumpStart Wilmington’s 5th Cohort Training Session 4 takes place on Thursday\, Dec. 2 \nAgenda: \n\nJumpstep 7: Understanding City Departments & Other Resources\nJumpstep 8: Customize Construction\nJumpstep 9: Lease/Manage/Sell Property\n\nParticipation in Jumpstart Wilmington Cohort 5 training sessions is exclusive to those who applied and were accepted to this specific cohort. For more information on how to apply for future cohorts\, click here.
URL:https://jumpstartwilmington.org/event/jumpstart-wilmington-cohort-5-session-4/
END:VEVENT
BEGIN:VEVENT
DTSTART;VALUE=DATE:20211125
DTEND;VALUE=DATE:20211126
DTSTAMP:20260422T185943
CREATED:20211101T125620Z
LAST-MODIFIED:20211101T125638Z
UID:787-1637798400-1637884799@jumpstartwilmington.org
SUMMARY:Jumpstart Wilmington Closed for Thanksgiving
DESCRIPTION:
URL:https://jumpstartwilmington.org/event/jumpstart-wilmington-closed-for-thanksgiving/
END:VEVENT
BEGIN:VEVENT
DTSTART;TZID=America/New_York:20211118T173000
DTEND;TZID=America/New_York:20211118T203000
DTSTAMP:20260422T185943
CREATED:20211101T125302Z
LAST-MODIFIED:20211101T125326Z
UID:783-1637256600-1637267400@jumpstartwilmington.org
SUMMARY:JUMPSTART WILMINGTON COHORT 5 – SESSION 3
DESCRIPTION:JumpStart Wilmington’s 5th Cohort Training Session 3 takes place on Thursday\, Nov. 18. \nAgenda: \n\nJumpstep 6: Develop Design & Procure Permits\nJumpstep 7: Understanding City Department and Other Resources\n\nParticipation in Jumpstart Wilmington Cohort 4 training sessions is exclusive to those who applied and were accepted to this specific cohort. For more information on how to apply for future cohorts\, click here.
URL:https://jumpstartwilmington.org/event/jumpstart-wilmington-cohort-5-session-3/
END:VEVENT
BEGIN:VEVENT
DTSTART;TZID=America/New_York:20211115T173000
DTEND;TZID=America/New_York:20211115T190000
DTSTAMP:20260422T185943
CREATED:20211101T133342Z
LAST-MODIFIED:20211104T155507Z
UID:788-1636997400-1637002800@jumpstartwilmington.org
SUMMARY:KICKSTART SESSION: Tools to Create Efficiencies in the Development Process
DESCRIPTION:The development process involves juggling multiple tasks\, managing timelines\, and leading multiple entities/development team members through project completion. In an environment with shifting priorities and unexpected occurrences\, development project management tools can be ideal for maximizing productivity\, organizing project tasks\, and effectively managing project timelines and deadlines. \nJoin us Monday\, Nov. 15\, as Azeez Weeks\, Cinnaire Development Manager\, and Fatima Laster\, Cinnaire Development Associate\, share tools and best practices to help create more efficiencies throughout the development process. \nThis Kickstart Session will share tools to help: \n\nManage data that comes into a development process.\nPrioritize and correlate with milestones.\nShare data around milestones with your development team and manage accountability.\nManage processes for direct reports.\n\nPlease register by November 11 to ensure receipt of the Zoom link needed to attend this session. We look forward to seeing you on November 15! \nRegister Here  \n  \nKickstart Sessions complement the Jumpstart Wilmington program and offer information around specific topics related to the development process.   
URL:https://jumpstartwilmington.org/event/kickstart-session-tools-to-create-efficiencies-in-the-development-process/
END:VEVENT
BEGIN:VEVENT
DTSTART;TZID=America/New_York:20211111T173000
DTEND;TZID=America/New_York:20211111T203000
DTSTAMP:20260422T185943
CREATED:20211101T125135Z
LAST-MODIFIED:20211101T125135Z
UID:782-1636651800-1636662600@jumpstartwilmington.org
SUMMARY:JUMPSTART WILMINGTON COHORT 5 – SESSION 2
DESCRIPTION:JumpStart Wilmington’s 5th Cohort Training Session 2 takes place on Thursday\, Nov. 11. \nAgenda: \n\nJumpStep 3: Source a Property\nJumpStep 4: Do Your Due Diligence\nJumpStep 5: Find Your Financing\n\nParticipation in Jumpstart Wilmington Cohort 5 training sessions is exclusive to those who applied and were accepted to this specific cohort. For more information on how to apply for future cohorts\, click here.
URL:https://jumpstartwilmington.org/event/jumpstart-wilmington-cohort-5-session-2/
END:VEVENT
BEGIN:VEVENT
DTSTART;TZID=America/New_York:20211104T173000
DTEND;TZID=America/New_York:20211104T203000
DTSTAMP:20260422T185943
CREATED:20211101T124950Z
LAST-MODIFIED:20211101T124950Z
UID:781-1636047000-1636057800@jumpstartwilmington.org
SUMMARY:JUMPSTART WILMINGTON COHORT 5 – SESSION 1
DESCRIPTION:JumpStart Wilmington’s 5th Cohort training session begins Thursday\, Nov. 4. \nAgenda: \n\nJumpStep 1: Minding Your Business\nJumpStep 2: Development Strategy & Team\n\nParticipation in Jumpstart Wilmington Cohort 4 training sessions is exclusive to those who applied and were accepted to this specific cohort. For more information on how to apply for future cohorts\, click here.
URL:https://jumpstartwilmington.org/event/jumpstart-wilmington-cohort-5-session-1/
END:VEVENT
BEGIN:VEVENT
DTSTART;TZID=America/New_York:20211101T173000
DTEND;TZID=America/New_York:20211101T193000
DTSTAMP:20260422T185943
CREATED:20211101T124533Z
LAST-MODIFIED:20211101T124650Z
UID:780-1635787800-1635795000@jumpstartwilmington.org
SUMMARY:JUMPSTART WILMINGTON COHORT 5 – ORIENTATION
DESCRIPTION:JumpStart Wilmington’s 5th Cohort orientation session will be held on Thursday\, November 4. \nParticipation in Jumpstart Wilmington Cohort 5 training sessions is exclusive to those who applied and were accepted to this specific cohort. For more information on how to apply for future cohorts\, click here.
URL:https://jumpstartwilmington.org/event/jumpstart-wilmington-cohort-5-orientation/
END:VEVENT
BEGIN:VEVENT
DTSTART;TZID=America/New_York:20210826T140000
DTEND;TZID=America/New_York:20210826T170000
DTSTAMP:20260422T185943
CREATED:20210804T142554Z
LAST-MODIFIED:20210804T142554Z
UID:758-1629986400-1629997200@jumpstartwilmington.org
SUMMARY:JumpStart Wilmington Cohort 4 - Session 4
DESCRIPTION:JumpStart Wilmington’s 4th Cohort Training Session 4 takes place on Thursday\, Aug. 26. \nAgenda: \n\nJumpstep 7: Understanding City Departments & Other Resources\nJumpstep 8: Customize Construction\nJumpstep 9: Lease/Manage/Sell Property\n\nParticipation in Jumpstart Wilmington Cohort 4 training sessions is exclusive to those who applied and were accepted to this specific cohort. For more information on how to apply for future cohorts\, click here.
URL:https://jumpstartwilmington.org/event/jumpstart-wilmington-cohort-4-session-4/
END:VEVENT
BEGIN:VEVENT
DTSTART;TZID=America/New_York:20210819T140000
DTEND;TZID=America/New_York:20210819T170000
DTSTAMP:20260422T185943
CREATED:20210804T142418Z
LAST-MODIFIED:20210804T142649Z
UID:757-1629381600-1629392400@jumpstartwilmington.org
SUMMARY:JumpStart Wilmington Cohort 4 - Session 3
DESCRIPTION:JumpStart Wilmington’s 4th Cohort Training Session 3 takes place on Thursday\, Aug. 19. \nAgenda: \n\nJumpstep 6: Develop Design & Procure Permits\nJumpstep 7: Understanding City Department and Other Resources\n\nParticipation in Jumpstart Wilmington Cohort 4 training sessions is exclusive to those who applied and were accepted to this specific cohort. For more information on how to apply for future cohorts\, click here.
URL:https://jumpstartwilmington.org/event/jumpstart-wilmington-cohort-4-session-3/
END:VEVENT
BEGIN:VEVENT
DTSTART;TZID=America/New_York:20210816T173000
DTEND;TZID=America/New_York:20210816T190000
DTSTAMP:20260422T185943
CREATED:20210802T231419Z
LAST-MODIFIED:20210803T144411Z
UID:746-1629135000-1629140400@jumpstartwilmington.org
SUMMARY:Kickstart Session: Project Sequencing for Developers
DESCRIPTION:August’s Kickstart Session will feature Chris Laurent\, President of Cinnaire Solutions\, explaining the importance of project sequencing and the developer’s decision-making process. \nProject sequencing helps to determine when to select a project for development based on feasibility of the deal. This process also allows a developer to determine the priority in which a project should be completed with contemplating or managing multiple projects. Join us as we hear Chris Laurent\, President of Cinnaire Solutions\, explain the importance of project sequencing and the developer’s decision-making process. \nThis session will provide tips on: \n\nUsing the right financial tools to evaluate your project.\nHow to know if you have the proper scope of work?\nHow do you select the tight architect and contractor for your project?\nWhat to delegate to your professionals vs. what you can do yourself?\n\nRegister Here
URL:https://jumpstartwilmington.org/event/example-event-title-here/
LOCATION:Virtual
END:VEVENT
BEGIN:VEVENT
DTSTART;TZID=America/New_York:20210812T140000
DTEND;TZID=America/New_York:20210812T170000
DTSTAMP:20260422T185943
CREATED:20210804T142112Z
LAST-MODIFIED:20210804T142112Z
UID:756-1628776800-1628787600@jumpstartwilmington.org
SUMMARY:JumpStart Wilmington Cohort 4 - Session 2
DESCRIPTION:JumpStart Wilmington’s 4th Cohort Training Session 2 takes place on Thursday\, Aug. 12. \nAgenda: \n\nJumpStep 3: Source a Property\nJumpStep 4: Do Your Due Diligence\nJumpStep 5: Find Your Financing\n\nParticipation in Jumpstart Wilmington Cohort 4 training sessions is exclusive to those who applied and were accepted to this specific cohort. For more information on how to apply for future cohorts\, click here.
URL:https://jumpstartwilmington.org/event/jumpstart-wilmington-cohort-4-session-2/
END:VEVENT
BEGIN:VEVENT
DTSTART;TZID=America/New_York:20210805T140000
DTEND;TZID=America/New_York:20210805T170000
DTSTAMP:20260422T185943
CREATED:20210803T201958Z
LAST-MODIFIED:20210804T140958Z
UID:752-1628172000-1628182800@jumpstartwilmington.org
SUMMARY:JumpStart Wilmington Cohort 4 - Session 1
DESCRIPTION:JumpStart Wilmington’s 4th Cohort training session begins Thursday\, Aug. 5. \nAgenda: \n\nJumpStep 1: Minding Your Business\nJumpStep 2: Development Strategy & Team\n\nParticipation in Jumpstart Wilmington Cohort 4 training sessions is exclusive to those who applied and were accepted to this specific cohort. For more information on how to apply for future cohorts\, click here.
URL:https://jumpstartwilmington.org/event/jumpstart-wilmington-cohort-4-orientation-session-1/
END:VEVENT
BEGIN:VEVENT
DTSTART;TZID=America/New_York:20210802T150000
DTEND;TZID=America/New_York:20210802T170000
DTSTAMP:20260422T185943
CREATED:20210804T141532Z
LAST-MODIFIED:20210804T141532Z
UID:754-1627916400-1627923600@jumpstartwilmington.org
SUMMARY:JumpStart Wilmington Cohort 4 - Orientation
DESCRIPTION:JumpStart Wilmington’s 4th Cohort orientation session will be held on Monday\, August 2. \nParticipation in Jumpstart Wilmington Cohort 4 training sessions is exclusive to those who applied and were accepted to this specific cohort. For more information on how to apply for future cohorts\, click here.
URL:https://jumpstartwilmington.org/event/jumpstart-wilmington-cohort-4-orientation/
END:VEVENT
END:VCALENDAR